BEGIN:VCALENDAR
VERSION:2.0
PRODID:-//SECRETARIA HIPICA - ECPv6.15.20//NONSGML v1.0//EN
CALSCALE:GREGORIAN
METHOD:PUBLISH
X-ORIGINAL-URL:https://www.secretariahipica.com
X-WR-CALDESC:Eventos para SECRETARIA HIPICA
REFRESH-INTERVAL;VALUE=DURATION:PT1H
X-Robots-Tag:noindex
X-PUBLISHED-TTL:PT1H
BEGIN:VTIMEZONE
TZID:Europe/Madrid
BEGIN:DAYLIGHT
TZOFFSETFROM:+0100
TZOFFSETTO:+0200
TZNAME:CEST
DTSTART:20210328T010000
END:DAYLIGHT
BEGIN:STANDARD
TZOFFSETFROM:+0200
TZOFFSETTO:+0100
TZNAME:CET
DTSTART:20211031T010000
END:STANDARD
BEGIN:DAYLIGHT
TZOFFSETFROM:+0100
TZOFFSETTO:+0200
TZNAME:CEST
DTSTART:20220327T010000
END:DAYLIGHT
BEGIN:STANDARD
TZOFFSETFROM:+0200
TZOFFSETTO:+0100
TZNAME:CET
DTSTART:20221030T010000
END:STANDARD
BEGIN:DAYLIGHT
TZOFFSETFROM:+0100
TZOFFSETTO:+0200
TZNAME:CEST
DTSTART:20230326T010000
END:DAYLIGHT
BEGIN:STANDARD
TZOFFSETFROM:+0200
TZOFFSETTO:+0100
TZNAME:CET
DTSTART:20231029T010000
END:STANDARD
END:VTIMEZONE
BEGIN:VEVENT
DTSTART;TZID=Europe/Madrid:20221204T090000
DTEND;TZID=Europe/Madrid:20221204T173000
DTSTAMP:20260424T112108
CREATED:20221130T112918Z
LAST-MODIFIED:20230114T213701Z
UID:1653-1670144400-1670175000@www.secretariahipica.com
SUMMARY:1º Concurso - V Liga Pegaso de Doma Clásica
DESCRIPTION:1º Concurso – V Liga Pegaso de Doma Clásica
URL:https://www.secretariahipica.com/event/1o-concurso-v-liga-pegaso-de-doma-clasica/
LOCATION:HÍPICA SOTO DEL ESPINAR\, Centro hípico "Soto del Espinar"\, 28140\, Madrid\, Fuente el Saz\, MAdrid\, 28140\, España
CATEGORIES:Doma Clásica
ATTACH;FMTTYPE=image/jpeg:https://www.secretariahipica.com/wp-content/uploads/2022/11/CARTEL1-copia.jpg
END:VEVENT
END:VCALENDAR