BEGIN:VCALENDAR
VERSION:2.0
PRODID:-//SECRETARIA HIPICA - ECPv6.15.20//NONSGML v1.0//EN
CALSCALE:GREGORIAN
METHOD:PUBLISH
X-WR-CALNAME:SECRETARIA HIPICA
X-ORIGINAL-URL:https://www.secretariahipica.com
X-WR-CALDESC:Eventos para SECRETARIA HIPICA
REFRESH-INTERVAL;VALUE=DURATION:PT1H
X-Robots-Tag:noindex
X-PUBLISHED-TTL:PT1H
BEGIN:VTIMEZONE
TZID:Europe/Madrid
BEGIN:DAYLIGHT
TZOFFSETFROM:+0100
TZOFFSETTO:+0200
TZNAME:CEST
DTSTART:20220327T010000
END:DAYLIGHT
BEGIN:STANDARD
TZOFFSETFROM:+0200
TZOFFSETTO:+0100
TZNAME:CET
DTSTART:20221030T010000
END:STANDARD
BEGIN:DAYLIGHT
TZOFFSETFROM:+0100
TZOFFSETTO:+0200
TZNAME:CEST
DTSTART:20230326T010000
END:DAYLIGHT
BEGIN:STANDARD
TZOFFSETFROM:+0200
TZOFFSETTO:+0100
TZNAME:CET
DTSTART:20231029T010000
END:STANDARD
BEGIN:DAYLIGHT
TZOFFSETFROM:+0100
TZOFFSETTO:+0200
TZNAME:CEST
DTSTART:20240331T010000
END:DAYLIGHT
BEGIN:STANDARD
TZOFFSETFROM:+0200
TZOFFSETTO:+0100
TZNAME:CET
DTSTART:20241027T010000
END:STANDARD
END:VTIMEZONE
BEGIN:VEVENT
DTSTART;TZID=Europe/Madrid:20230701T080000
DTEND;TZID=Europe/Madrid:20230702T190000
DTSTAMP:20260424T011049
CREATED:20230626T203903Z
LAST-MODIFIED:20230702T061733Z
UID:1859-1688198400-1688324400@www.secretariahipica.com
SUMMARY:2º Fase II Copa Federaciones 2023 - Final XL JJEE de Aragón 2023 - XXVI Campeonato de Aragón Absoluto - XIX Campeonato de Aragón Juvenil - XVI Campeonato de Aragón de Caballos Jóvenes
DESCRIPTION:2º Fase II Copa Federaciones 2023 – Final XL JJEE de Aragón 2023 – XXVI Campeonato de Aragón Absoluto – XIX Campeonato de Aragón Juvenil – XVI Campeonato de Aragón de Caballos Jóvenes
URL:https://www.secretariahipica.com/event/copafederaciones2023/
LOCATION:CENTRO HÍPICO MARÍA DE HUERVA\, Finca la dehesa\, Polígono nº 1 parcela 64-65\, María de Huerva\, Zaragoza\, 50430\, España
CATEGORIES:Doma Clásica
ATTACH;FMTTYPE=image/png:https://www.secretariahipica.com/wp-content/uploads/2021/08/LOGO-HORIZONTAL-HIPICA-blue.png
ORGANIZER;CN="FEDERACI%C3%93N H%C3%8DPICA ARAGONESA":MAILTO:info@fharagonesa.org
END:VEVENT
END:VCALENDAR