BEGIN:VCALENDAR
VERSION:2.0
PRODID:-//SECRETARIA HIPICA - ECPv6.15.20//NONSGML v1.0//EN
CALSCALE:GREGORIAN
METHOD:PUBLISH
X-WR-CALNAME:SECRETARIA HIPICA
X-ORIGINAL-URL:https://www.secretariahipica.com
X-WR-CALDESC:Eventos para SECRETARIA HIPICA
REFRESH-INTERVAL;VALUE=DURATION:PT1H
X-Robots-Tag:noindex
X-PUBLISHED-TTL:PT1H
BEGIN:VTIMEZONE
TZID:Europe/Madrid
BEGIN:DAYLIGHT
TZOFFSETFROM:+0100
TZOFFSETTO:+0200
TZNAME:CEST
DTSTART:20230326T010000
END:DAYLIGHT
BEGIN:STANDARD
TZOFFSETFROM:+0200
TZOFFSETTO:+0100
TZNAME:CET
DTSTART:20231029T010000
END:STANDARD
BEGIN:DAYLIGHT
TZOFFSETFROM:+0100
TZOFFSETTO:+0200
TZNAME:CEST
DTSTART:20240331T010000
END:DAYLIGHT
BEGIN:STANDARD
TZOFFSETFROM:+0200
TZOFFSETTO:+0100
TZNAME:CET
DTSTART:20241027T010000
END:STANDARD
BEGIN:DAYLIGHT
TZOFFSETFROM:+0100
TZOFFSETTO:+0200
TZNAME:CEST
DTSTART:20250330T010000
END:DAYLIGHT
BEGIN:STANDARD
TZOFFSETFROM:+0200
TZOFFSETTO:+0100
TZNAME:CET
DTSTART:20251026T010000
END:STANDARD
END:VTIMEZONE
BEGIN:VEVENT
DTSTART;TZID=Europe/Madrid:20241020T090000
DTEND;TZID=Europe/Madrid:20241020T190000
DTSTAMP:20260421T152530
CREATED:20241015T163520Z
LAST-MODIFIED:20241015T164431Z
UID:2511-1729414800-1729450800@www.secretariahipica.com
SUMMARY:4º Concurso - VI Liga Pegaso de Doma Clásica
DESCRIPTION:4º Concurso – VI Liga Pegaso de Doma Clásica
URL:https://www.secretariahipica.com/event/3o-concurso-vi-liga-pegaso-de-doma-clasica-2/
LOCATION:CLUB HÍPICO LOS FALDONES\, Camino Aguachares\, 134\, Arganda del Rey\, Madrid\, 28500\, Spain
CATEGORIES:Doma Clásica
ATTACH;FMTTYPE=image/jpeg:https://www.secretariahipica.com/wp-content/uploads/2024/10/cartel-copia.jpg
END:VEVENT
END:VCALENDAR