BEGIN:VCALENDAR
VERSION:2.0
PRODID:-//SECRETARIA HIPICA - ECPv6.15.20//NONSGML v1.0//EN
CALSCALE:GREGORIAN
METHOD:PUBLISH
X-WR-CALNAME:SECRETARIA HIPICA
X-ORIGINAL-URL:https://www.secretariahipica.com
X-WR-CALDESC:Eventos para SECRETARIA HIPICA
REFRESH-INTERVAL;VALUE=DURATION:PT1H
X-Robots-Tag:noindex
X-PUBLISHED-TTL:PT1H
BEGIN:VTIMEZONE
TZID:Europe/Madrid
BEGIN:DAYLIGHT
TZOFFSETFROM:+0100
TZOFFSETTO:+0200
TZNAME:CEST
DTSTART:20240331T010000
END:DAYLIGHT
BEGIN:STANDARD
TZOFFSETFROM:+0200
TZOFFSETTO:+0100
TZNAME:CET
DTSTART:20241027T010000
END:STANDARD
BEGIN:DAYLIGHT
TZOFFSETFROM:+0100
TZOFFSETTO:+0200
TZNAME:CEST
DTSTART:20250330T010000
END:DAYLIGHT
BEGIN:STANDARD
TZOFFSETFROM:+0200
TZOFFSETTO:+0100
TZNAME:CET
DTSTART:20251026T010000
END:STANDARD
BEGIN:DAYLIGHT
TZOFFSETFROM:+0100
TZOFFSETTO:+0200
TZNAME:CEST
DTSTART:20260329T010000
END:DAYLIGHT
BEGIN:STANDARD
TZOFFSETFROM:+0200
TZOFFSETTO:+0100
TZNAME:CET
DTSTART:20261025T010000
END:STANDARD
END:VTIMEZONE
BEGIN:VEVENT
DTSTART;TZID=Europe/Madrid:20250302T090000
DTEND;TZID=Europe/Madrid:20250302T183000
DTSTAMP:20260421T071231
CREATED:20250224T185518Z
LAST-MODIFIED:20250224T185602Z
UID:2638-1740906000-1740940200@www.secretariahipica.com
SUMMARY:1º Jornada XLII JJEE salto de obstáculos y VI Copa Reino de Aragón de salto de obstáculos 2025
DESCRIPTION:1º Jornada XLII JJEE salto de obstáculos y VI Copa Reino de Aragón de salto de obstáculos 2025
URL:https://www.secretariahipica.com/event/1o-jornada-xlii-jjee-salto-de-obstaculos-y-vi-copa-reino-de-aragon-de-salto-de-obstaculos-2025/
LOCATION:ASOCIACION DEPORTIVA HIPICA NUESTRA SEÑORA DE SALAS\, Antiguo camino de Salas\, Huesca\, Huesca\, 22005\, España
CATEGORIES:Doma Clásica
ATTACH;FMTTYPE=image/png:https://www.secretariahipica.com/wp-content/uploads/2021/08/LOGO-HORIZONTAL-HIPICA-blue.png
ORGANIZER;CN="FEDERACI%C3%93N H%C3%8DPICA ARAGONESA":MAILTO:info@fharagonesa.org
END:VEVENT
END:VCALENDAR