BEGIN:VCALENDAR
VERSION:2.0
PRODID:-//SECRETARIA HIPICA - ECPv6.15.20//NONSGML v1.0//EN
CALSCALE:GREGORIAN
METHOD:PUBLISH
X-WR-CALNAME:SECRETARIA HIPICA
X-ORIGINAL-URL:https://www.secretariahipica.com
X-WR-CALDESC:Eventos para SECRETARIA HIPICA
REFRESH-INTERVAL;VALUE=DURATION:PT1H
X-Robots-Tag:noindex
X-PUBLISHED-TTL:PT1H
BEGIN:VTIMEZONE
TZID:Europe/Madrid
BEGIN:DAYLIGHT
TZOFFSETFROM:+0100
TZOFFSETTO:+0200
TZNAME:CEST
DTSTART:20240331T010000
END:DAYLIGHT
BEGIN:STANDARD
TZOFFSETFROM:+0200
TZOFFSETTO:+0100
TZNAME:CET
DTSTART:20241027T010000
END:STANDARD
BEGIN:DAYLIGHT
TZOFFSETFROM:+0100
TZOFFSETTO:+0200
TZNAME:CEST
DTSTART:20250330T010000
END:DAYLIGHT
BEGIN:STANDARD
TZOFFSETFROM:+0200
TZOFFSETTO:+0100
TZNAME:CET
DTSTART:20251026T010000
END:STANDARD
BEGIN:DAYLIGHT
TZOFFSETFROM:+0100
TZOFFSETTO:+0200
TZNAME:CEST
DTSTART:20260329T010000
END:DAYLIGHT
BEGIN:STANDARD
TZOFFSETFROM:+0200
TZOFFSETTO:+0100
TZNAME:CET
DTSTART:20261025T010000
END:STANDARD
END:VTIMEZONE
BEGIN:VEVENT
DTSTART;TZID=Europe/Madrid:20250601T090000
DTEND;TZID=Europe/Madrid:20250601T173000
DTSTAMP:20260421T022604
CREATED:20250522T185053Z
LAST-MODIFIED:20250522T185054Z
UID:2828-1748768400-1748799000@www.secretariahipica.com
SUMMARY:3º Concurso - VII Liga Pegaso de Doma Clásica
DESCRIPTION:3 Concurso – VII Liga Pegaso de Doma Clásica
URL:https://www.secretariahipica.com/event/3o-concurso-vii-liga-pegaso-de-doma-clasica/
LOCATION:CENTRO HÍPICO EL DUENDE\, Diseminado los Frutales\, 81\, Morata de Tajuña\, Madrid\, 28530\, España
CATEGORIES:Doma Clásica
ATTACH;FMTTYPE=image/png:https://www.secretariahipica.com/wp-content/uploads/2025/05/cartel4.png
END:VEVENT
BEGIN:VEVENT
DTSTART;TZID=Europe/Madrid:20250614T090000
DTEND;TZID=Europe/Madrid:20250614T170000
DTSTAMP:20260421T022604
CREATED:20250609T184452Z
LAST-MODIFIED:20250609T184453Z
UID:2840-1749891600-1749920400@www.secretariahipica.com
SUMMARY:Concurso Territorial y Social de Doma Clásica Real Hípica de Griñón Junio 2025
DESCRIPTION:Concurso Territorial y Social de Doma Clásica Real Hípica de Griñón
URL:https://www.secretariahipica.com/event/concurso-territorial-y-social-de-doma-clasica-real-hipica-de-grinon-junio-2025/
LOCATION:REAL HÍPICA DE GRIÑÓN\, C/ALBÉNIZ\, S/N\, GRIÑÓN\, MADRID\, 28971\, España
CATEGORIES:Doma Clásica
ATTACH;FMTTYPE=image/jpeg:https://www.secretariahipica.com/wp-content/uploads/2025/06/cartel.jpg
END:VEVENT
BEGIN:VEVENT
DTSTART;TZID=Europe/Madrid:20250621T080000
DTEND;TZID=Europe/Madrid:20250622T190000
DTSTAMP:20260421T022604
CREATED:20250615T151314Z
LAST-MODIFIED:20250619T093201Z
UID:2853-1750492800-1750618800@www.secretariahipica.com
SUMMARY:Final XLII JJEE de Aragón 2025 - XXVIII Campeonato de Aragón Absoluto - XXI Campeonato de Aragón Juvenil - XVI Campeonato de Aragón de Caballos Jóvenes
DESCRIPTION:Final XLII JJEE de Aragón 2025 – XXVIII Campeonato de Aragón Absoluto – XXI Campeonato de Aragón Juvenil – XVI Campeonato de Aragón de Caballos Jóvenes \n\n\n\n\n\n\n\n\n\n\nResultados día 1\n\n\n\nResultados día 2
URL:https://www.secretariahipica.com/event/final-xlii-jjee-de-aragon-2025-xxviii-campeonato-de-aragon-absoluto-xxi-campeonato-de-aragon-juvenil-xvi-campeonato-de-aragon-de-caballos-jovenes/
LOCATION:LA RIBERA HÍPICA\, Partida Mejana de la Noria\, parcela 580\, 50730 \, Zaragoza\, El Burgo de Ebro\, Zaragoza\, 50730\, Spain
CATEGORIES:Doma Clásica
ATTACH;FMTTYPE=image/jpeg:https://www.secretariahipica.com/wp-content/uploads/2025/06/cartel-1.jpg
ORGANIZER;CN="FEDERACI%C3%93N H%C3%8DPICA ARAGONESA":MAILTO:info@fharagonesa.org
END:VEVENT
END:VCALENDAR