BEGIN:VCALENDAR
VERSION:2.0
PRODID:-//SECRETARIA HIPICA - ECPv6.15.20//NONSGML v1.0//EN
CALSCALE:GREGORIAN
METHOD:PUBLISH
X-ORIGINAL-URL:https://www.secretariahipica.com
X-WR-CALDESC:Eventos para SECRETARIA HIPICA
REFRESH-INTERVAL;VALUE=DURATION:PT1H
X-Robots-Tag:noindex
X-PUBLISHED-TTL:PT1H
BEGIN:VTIMEZONE
TZID:Europe/Madrid
BEGIN:DAYLIGHT
TZOFFSETFROM:+0100
TZOFFSETTO:+0200
TZNAME:CEST
DTSTART:20240331T010000
END:DAYLIGHT
BEGIN:STANDARD
TZOFFSETFROM:+0200
TZOFFSETTO:+0100
TZNAME:CET
DTSTART:20241027T010000
END:STANDARD
BEGIN:DAYLIGHT
TZOFFSETFROM:+0100
TZOFFSETTO:+0200
TZNAME:CEST
DTSTART:20250330T010000
END:DAYLIGHT
BEGIN:STANDARD
TZOFFSETFROM:+0200
TZOFFSETTO:+0100
TZNAME:CET
DTSTART:20251026T010000
END:STANDARD
BEGIN:DAYLIGHT
TZOFFSETFROM:+0100
TZOFFSETTO:+0200
TZNAME:CEST
DTSTART:20260329T010000
END:DAYLIGHT
BEGIN:STANDARD
TZOFFSETFROM:+0200
TZOFFSETTO:+0100
TZNAME:CET
DTSTART:20261025T010000
END:STANDARD
END:VTIMEZONE
BEGIN:VEVENT
DTSTART;TZID=Europe/Madrid:20251109T090000
DTEND;TZID=Europe/Madrid:20251109T173000
DTSTAMP:20260420T183218
CREATED:20251027T072014Z
LAST-MODIFIED:20251027T072015Z
UID:3006-1762678800-1762709400@www.secretariahipica.com
SUMMARY:Final Liga y III Copa Liga Pegaso - VII Liga Pegaso de Doma Clásica
DESCRIPTION:Final Liga y III Copa Liga Pegaso – VII Liga Pegaso de Doma Clásica
URL:https://www.secretariahipica.com/event/final-liga-y-iii-copa-liga-pegaso-vii-liga-pegaso-de-doma-clasica/
LOCATION:CLUB HÍPICO LOS FALDONES\, Camino Aguachares\, 134\, Arganda del Rey\, Madrid\, 28500\, Spain
CATEGORIES:Doma Clásica
ATTACH;FMTTYPE=image/jpeg:https://www.secretariahipica.com/wp-content/uploads/2025/10/cartel-copia.jpg
END:VEVENT
END:VCALENDAR