BEGIN:VCALENDAR
VERSION:2.0
PRODID:-//SECRETARIA HIPICA - ECPv6.15.20//NONSGML v1.0//EN
CALSCALE:GREGORIAN
METHOD:PUBLISH
X-WR-CALNAME:SECRETARIA HIPICA
X-ORIGINAL-URL:https://www.secretariahipica.com
X-WR-CALDESC:Eventos para SECRETARIA HIPICA
REFRESH-INTERVAL;VALUE=DURATION:PT1H
X-Robots-Tag:noindex
X-PUBLISHED-TTL:PT1H
BEGIN:VTIMEZONE
TZID:Europe/Madrid
BEGIN:DAYLIGHT
TZOFFSETFROM:+0100
TZOFFSETTO:+0200
TZNAME:CEST
DTSTART:20220327T010000
END:DAYLIGHT
BEGIN:STANDARD
TZOFFSETFROM:+0200
TZOFFSETTO:+0100
TZNAME:CET
DTSTART:20221030T010000
END:STANDARD
BEGIN:DAYLIGHT
TZOFFSETFROM:+0100
TZOFFSETTO:+0200
TZNAME:CEST
DTSTART:20230326T010000
END:DAYLIGHT
BEGIN:STANDARD
TZOFFSETFROM:+0200
TZOFFSETTO:+0100
TZNAME:CET
DTSTART:20231029T010000
END:STANDARD
BEGIN:DAYLIGHT
TZOFFSETFROM:+0100
TZOFFSETTO:+0200
TZNAME:CEST
DTSTART:20240331T010000
END:DAYLIGHT
BEGIN:STANDARD
TZOFFSETFROM:+0200
TZOFFSETTO:+0100
TZNAME:CET
DTSTART:20241027T010000
END:STANDARD
END:VTIMEZONE
BEGIN:VEVENT
DTSTART;TZID=Europe/Madrid:20231119T090000
DTEND;TZID=Europe/Madrid:20231119T173000
DTSTAMP:20260423T202619
CREATED:20231112T213137Z
LAST-MODIFIED:20231112T213138Z
UID:2034-1700384400-1700415000@www.secretariahipica.com
SUMMARY:Liga Pegaso Final V Liga de Doma Clásica
DESCRIPTION:Liga Pegaso Final V Liga de Doma Clásica
URL:https://www.secretariahipica.com/event/liga-pegaso-final-v-liga-de-doma-clasica/
LOCATION:HÍPICA SANTANA SOTO DEL GRILLO\, Camino del Sotillo\, Velilla de San Antonio\, Madrid\, 28891\, España
CATEGORIES:Doma Clásica
ATTACH;FMTTYPE=image/png:https://www.secretariahipica.com/wp-content/uploads/2023/11/Sin-titulo-1080-x-1350-px-2.png
END:VEVENT
END:VCALENDAR