BEGIN:VCALENDAR
VERSION:2.0
PRODID:-//SECRETARIA HIPICA - ECPv6.15.20//NONSGML v1.0//EN
CALSCALE:GREGORIAN
METHOD:PUBLISH
X-WR-CALNAME:SECRETARIA HIPICA
X-ORIGINAL-URL:https://www.secretariahipica.com
X-WR-CALDESC:Eventos para SECRETARIA HIPICA
REFRESH-INTERVAL;VALUE=DURATION:PT1H
X-Robots-Tag:noindex
X-PUBLISHED-TTL:PT1H
BEGIN:VTIMEZONE
TZID:Europe/Madrid
BEGIN:DAYLIGHT
TZOFFSETFROM:+0100
TZOFFSETTO:+0200
TZNAME:CEST
DTSTART:20230326T010000
END:DAYLIGHT
BEGIN:STANDARD
TZOFFSETFROM:+0200
TZOFFSETTO:+0100
TZNAME:CET
DTSTART:20231029T010000
END:STANDARD
BEGIN:DAYLIGHT
TZOFFSETFROM:+0100
TZOFFSETTO:+0200
TZNAME:CEST
DTSTART:20240331T010000
END:DAYLIGHT
BEGIN:STANDARD
TZOFFSETFROM:+0200
TZOFFSETTO:+0100
TZNAME:CET
DTSTART:20241027T010000
END:STANDARD
BEGIN:DAYLIGHT
TZOFFSETFROM:+0100
TZOFFSETTO:+0200
TZNAME:CEST
DTSTART:20250330T010000
END:DAYLIGHT
BEGIN:STANDARD
TZOFFSETFROM:+0200
TZOFFSETTO:+0100
TZNAME:CET
DTSTART:20251026T010000
END:STANDARD
END:VTIMEZONE
BEGIN:VEVENT
DTSTART;TZID=Europe/Madrid:20240525T090000
DTEND;TZID=Europe/Madrid:20240525T170000
DTSTAMP:20260422T015049
CREATED:20240520T140210Z
LAST-MODIFIED:20240522T062358Z
UID:2333-1716627600-1716656400@www.secretariahipica.com
SUMMARY:Concurso social de doma clásica - Hípica Las Lagunas
DESCRIPTION:Concurso social de doma clásica – Hípica Las Lagunas
URL:https://www.secretariahipica.com/event/concurso-social-de-doma-clasica-hipica-las-lagunas/
LOCATION:HÍPICA LAS LAGUNAS\, Carretera de Chinchón\, M-832\, km 1\,800\, Arganda\, Madrid\, 28500\, España
CATEGORIES:Doma Clásica
ATTACH;FMTTYPE=image/jpeg:https://www.secretariahipica.com/wp-content/uploads/2024/05/cartel-2.jpg
END:VEVENT
END:VCALENDAR