BEGIN:VCALENDAR
VERSION:2.0
PRODID:-//SECRETARIA HIPICA - ECPv6.15.20//NONSGML v1.0//EN
CALSCALE:GREGORIAN
METHOD:PUBLISH
X-ORIGINAL-URL:https://www.secretariahipica.com
X-WR-CALDESC:Eventos para SECRETARIA HIPICA
REFRESH-INTERVAL;VALUE=DURATION:PT1H
X-Robots-Tag:noindex
X-PUBLISHED-TTL:PT1H
BEGIN:VTIMEZONE
TZID:Europe/Madrid
BEGIN:DAYLIGHT
TZOFFSETFROM:+0100
TZOFFSETTO:+0200
TZNAME:CEST
DTSTART:20230326T010000
END:DAYLIGHT
BEGIN:STANDARD
TZOFFSETFROM:+0200
TZOFFSETTO:+0100
TZNAME:CET
DTSTART:20231029T010000
END:STANDARD
BEGIN:DAYLIGHT
TZOFFSETFROM:+0100
TZOFFSETTO:+0200
TZNAME:CEST
DTSTART:20240331T010000
END:DAYLIGHT
BEGIN:STANDARD
TZOFFSETFROM:+0200
TZOFFSETTO:+0100
TZNAME:CET
DTSTART:20241027T010000
END:STANDARD
BEGIN:DAYLIGHT
TZOFFSETFROM:+0100
TZOFFSETTO:+0200
TZNAME:CEST
DTSTART:20250330T010000
END:DAYLIGHT
BEGIN:STANDARD
TZOFFSETFROM:+0200
TZOFFSETTO:+0100
TZNAME:CET
DTSTART:20251026T010000
END:STANDARD
END:VTIMEZONE
BEGIN:VEVENT
DTSTART;TZID=Europe/Madrid:20240622T080000
DTEND;TZID=Europe/Madrid:20240623T190000
DTSTAMP:20260422T002448
CREATED:20240618T165413Z
LAST-MODIFIED:20240618T170217Z
UID:2380-1719043200-1719169200@www.secretariahipica.com
SUMMARY:Final XLI JJEE de Aragón 2024 - XXVII Campeonato de Aragón Absoluto - XX Campeonato de Aragón Juvenil - XV Campeonato de Aragón de Caballos Jóvenes
DESCRIPTION:Final XLI JJEE de Aragón 2024 – XXVII Campeonato de Aragón Absoluto – XX Campeonato de Aragón Juvenil – XV Campeonato de Aragón de Caballos Jóvenes \n\n\n\n\n\n\n\n\n\n\nResultados día 1\n\n\n\nResultados día 2
URL:https://www.secretariahipica.com/event/final-xli-jjee-de-aragon-2024-xxvii-campeonato-de-aragon-absoluto-xx-campeonato-de-aragon-juvenil-xv-campeonato-de-aragon-de-caballos-jovenes/
LOCATION:YEGUADA VILLA DE GOYA – FUENDETODOS (ZARAGOZA)\, C/ LA AGUADORA\, Nº 4\, FUENDETODOS\, ZARAGOZA\, 50142\, España
CATEGORIES:Doma Clásica
ATTACH;FMTTYPE=image/jpeg:https://www.secretariahipica.com/wp-content/uploads/2024/06/CARTEL-1.jpg
ORGANIZER;CN="FEDERACI%C3%93N H%C3%8DPICA ARAGONESA":MAILTO:info@fharagonesa.org
END:VEVENT
END:VCALENDAR