BEGIN:VCALENDAR
VERSION:2.0
PRODID:-//SECRETARIA HIPICA - ECPv6.15.20//NONSGML v1.0//EN
CALSCALE:GREGORIAN
METHOD:PUBLISH
X-ORIGINAL-URL:https://www.secretariahipica.com
X-WR-CALDESC:Eventos para SECRETARIA HIPICA
REFRESH-INTERVAL;VALUE=DURATION:PT1H
X-Robots-Tag:noindex
X-PUBLISHED-TTL:PT1H
BEGIN:VTIMEZONE
TZID:Europe/Madrid
BEGIN:DAYLIGHT
TZOFFSETFROM:+0100
TZOFFSETTO:+0200
TZNAME:CEST
DTSTART:20230326T010000
END:DAYLIGHT
BEGIN:STANDARD
TZOFFSETFROM:+0200
TZOFFSETTO:+0100
TZNAME:CET
DTSTART:20231029T010000
END:STANDARD
BEGIN:DAYLIGHT
TZOFFSETFROM:+0100
TZOFFSETTO:+0200
TZNAME:CEST
DTSTART:20240331T010000
END:DAYLIGHT
BEGIN:STANDARD
TZOFFSETFROM:+0200
TZOFFSETTO:+0100
TZNAME:CET
DTSTART:20241027T010000
END:STANDARD
BEGIN:DAYLIGHT
TZOFFSETFROM:+0100
TZOFFSETTO:+0200
TZNAME:CEST
DTSTART:20250330T010000
END:DAYLIGHT
BEGIN:STANDARD
TZOFFSETFROM:+0200
TZOFFSETTO:+0100
TZNAME:CET
DTSTART:20251026T010000
END:STANDARD
END:VTIMEZONE
BEGIN:VEVENT
DTSTART;TZID=Europe/Madrid:20240629T190000
DTEND;TZID=Europe/Madrid:20240629T233000
DTSTAMP:20260422T002150
CREATED:20240624T081019Z
LAST-MODIFIED:20240624T081307Z
UID:2407-1719687600-1719703800@www.secretariahipica.com
SUMMARY:Concurso Social Nocturno de Doma Clásica - Hípica El Carrizal de Cubas
DESCRIPTION:Concurso Social Nocturno de Doma Clásica – Hípica El Carrizal de Cubas
URL:https://www.secretariahipica.com/event/concurso-socila-nocturna-de-doma-clasica-hipica-el-carrizal-de-cubas/
LOCATION:HÍPICA EL CARRIZAL DE CUBAS\, Camino de Madrid 13\, Cubas de la Sagra\, Madrid\, 28978\, España
CATEGORIES:Doma Clásica,Salto de obstáculos
ATTACH;FMTTYPE=image/jpeg:https://www.secretariahipica.com/wp-content/uploads/2024/06/cartel-2.jpg
END:VEVENT
END:VCALENDAR