BEGIN:VCALENDAR
VERSION:2.0
PRODID:-//SECRETARIA HIPICA - ECPv6.15.20//NONSGML v1.0//EN
CALSCALE:GREGORIAN
METHOD:PUBLISH
X-ORIGINAL-URL:https://www.secretariahipica.com
X-WR-CALDESC:Eventos para SECRETARIA HIPICA
REFRESH-INTERVAL;VALUE=DURATION:PT1H
X-Robots-Tag:noindex
X-PUBLISHED-TTL:PT1H
BEGIN:VTIMEZONE
TZID:Europe/Madrid
BEGIN:DAYLIGHT
TZOFFSETFROM:+0100
TZOFFSETTO:+0200
TZNAME:CEST
DTSTART:20240331T010000
END:DAYLIGHT
BEGIN:STANDARD
TZOFFSETFROM:+0200
TZOFFSETTO:+0100
TZNAME:CET
DTSTART:20241027T010000
END:STANDARD
BEGIN:DAYLIGHT
TZOFFSETFROM:+0100
TZOFFSETTO:+0200
TZNAME:CEST
DTSTART:20250330T010000
END:DAYLIGHT
BEGIN:STANDARD
TZOFFSETFROM:+0200
TZOFFSETTO:+0100
TZNAME:CET
DTSTART:20251026T010000
END:STANDARD
BEGIN:DAYLIGHT
TZOFFSETFROM:+0100
TZOFFSETTO:+0200
TZNAME:CEST
DTSTART:20260329T010000
END:DAYLIGHT
BEGIN:STANDARD
TZOFFSETFROM:+0200
TZOFFSETTO:+0100
TZNAME:CET
DTSTART:20261025T010000
END:STANDARD
END:VTIMEZONE
BEGIN:VEVENT
DTSTART;TZID=Europe/Madrid:20250510T000000
DTEND;TZID=Europe/Madrid:20250511T235959
DTSTAMP:20260421T071954
CREATED:20250502T084502Z
LAST-MODIFIED:20250502T084606Z
UID:2726-1746835200-1747007999@www.secretariahipica.com
SUMMARY:CDN** TROFEO YEGUADA SAN ANTONIO - 3º
DESCRIPTION:CDN** TROFEO YEGUADA SAN ANTONIO – 3º  JORNADA JJEE DE DOMA CLÁSICA ARAGÓN\n\n\n\n\n\n \n\n\n\n\n\n\n\n\n\n\n\nResultados on line 2º día
URL:https://www.secretariahipica.com/event/cdn-trofeo-yeguada-san-antonio-3o/
LOCATION:CENTRO HÍPICO MARÍA DE HUERVA\, Finca la dehesa\, Polígono nº 1 parcela 64-65\, María de Huerva\, Zaragoza\, 50430\, España
CATEGORIES:Doma Clásica
ATTACH;FMTTYPE=image/png:https://www.secretariahipica.com/wp-content/uploads/2021/08/LOGO-HORIZONTAL-HIPICA-blue.png
ORGANIZER;CN="FEDERACI%C3%93N H%C3%8DPICA ARAGONESA":MAILTO:info@fharagonesa.org
END:VEVENT
END:VCALENDAR